Workbook

Sheet UPUTE
A1: UPUTE
A2: ZA POPUNJAVANJE OBRAZACA PRORAČUNA I IZMJENA TROŠKOVNIKA
A4: U Obrazac proračuna (sheet – OBRAZAC 1) potrebno je unijeti sve podatke (uključujući i datum), istim redoslijedom iz prijavnog troškovnika koji čini sastavni dio ugovora.
A5: VAŽNO: Ukoliko odlučite kopirati cijeli obrazac, potrebno ga je zalijepiti točno preko postojećeg obrasca zbog postojanja formula u pojedinim poljima. Potreban je oprez pri unosu podataka upravo zbog integriranih formula.
A6: Podaci iz Obrasca proračuna (sheet – OBRAZAC 1) automatski se prenose u OBRAZAC 1a – izmjene troškovnika.
A7: U obrascu OBRAZAC 1a – izmjene troškovnika popunjavaju se samo u pripadajućim rubrikama (u kolonama G, H, I).
A8: * upisati izmijenjeni iznos za količinu, jediničnu cijenu i ako je potrebno ukupan iznos s PDV-om ili
A9: * prepisati isti iznos ukoliko nije došlo do izmjene na toj stavci
A10: NAPOMENA: obavezno upisati datum izmjene.
A12: Rubrike koje prikazuju razlike sadrže formule koje automatski izračunavaju odstupanja između inicijalnih i izmijenjenih iznosa.
A13: Ukoliko se izmjena odnosi na novi trošak, koji nije bio prethodno planiran:
A14: * isti se upisuje u OBRAZAC 1a kao posljednji u skupini kojoj pripada
... A26: * Obrazac je potrebno dostaviti Ministarstvu u xls i pdf formatu

Sheet OBRAZAC 1
A1: OBRAZAC 1 - OBRAZAC PRORAČUNA PROJEKTNOG PRIJEDLOGA
A3: SREDSTVA MINTS-a | D3: =IFERROR(E3/SUM(E3:E4),"") | E3: =E313-E4 -> 0
A4: VLASTITA SREDSTVA (UKUPNO) | D4: =IFERROR(E4/SUM(E3:E4),"") | E4: =SUM(E6:E8) -> 0
A6: SREDSTVA PRIJAVITELJA (JLPRS)
A7: UDIO JEDNOG ILI VIŠE PARTNERA (ako je primjenjivo)*
A8: UDIO DRUGOG IZVORA SUFINANCIRANJA (ako je primjenjivo)**
A10: SPECIFIKACIJA RADOVA/OPREME PRIHVATLJIVIH TROŠKOVA (inicijalni/predloženi)
B12: SPECIFIKACIJA RADOVA/OPREME IZ TROŠKOVNIKA/PONUDE (prihvatljivi troškovi za prihvatljive aktivnosti) | C12: KOLIČINA (kod pojedinačnih stavaka troškovnika) | D12: JED. CIJENA | E12: UKUPAN IZNOS S PDV-OM
A13: 1 | E13: =D13*C13*1.25 -> 0
A14: 2 | E14: =D14*C14*1.25 -> 0
A15: 3 | E15: =D15*C15*1.25 -> 0
A16: 4 | E16: =D16*C16*1.25 -> 0
A17: 5 | E17: =D17*C17*1.25 -> 0
A18: 6 | E18: =D18*C18*1.25 -> 0
A19: 7 | E19: =D19*C19*1.25 -> 0
A20: 8 | E20: =D20*C20*1.25 -> 0
A21: 9 | E21: =D21*C21*1.25 -> 0
A22: 10 | E22: =D22*C22*1.25 -> 0
A23: 11 | E23: =D23*C23*1.25 -> 0
A24: 12 | E24: =D24*C24*1.25 -> 0
... A312: 300 | E312: =D312*C312*1.25 -> 0
B313: SVEUKUPNO S PDV-om | E313: =SUM(E13:E312) -> 0
B316: Datum podnošenja obrasca
B321: Ime, prezime i funkcija odgovorne osobe
B323: Pečat i potpis

Sheet OBRAZAC 1a
A1: OBRAZAC 1 - OBRAZAC PRORAČUNA PROJEKTNOG PRIJEDLOGA | G1: OBRAZAC 1a - OBRAZAC IZMJENA I DOPUNA TROŠKOVNIKA OD:
A3: SREDSTVA MINTS-a | D3: =IFERROR(E3/SUM(E3:E4),"") | E3: ='OBRAZAC 1'!E3 -> 0 | G3: =IFERROR(H3/SUM(H3:H4),"") | H3: =I313-H4 -> 0
A4: VLASTITA SREDSTVA (UKUPNO) | D4: =IFERROR(E4/SUM(E3:E4),"") | E4: ='OBRAZAC 1'!E4 -> 0 | G4: =IFERROR(H4/SUM(H3:H4),"") | H4: =SUM(H6:H8) -> 0
A6: SREDSTVA PRIJAVITELJA (JLPRS) | E6: ='OBRAZAC 1'!E6 -> 0
A7: UDIO JEDNOG ILI VIŠE PARTNERA (ako je primjenjivo)* | E7: ='OBRAZAC 1'!E7 -> 0
A8: UDIO DRUGOG IZVORA SUFINANCIRANJA (ako je primjenjivo)** | E8: ='OBRAZAC 1'!E8 -> 0
A10: SPECIFIKACIJA RADOVA/OPREME PRIHVATLJIVIH TROŠKOVA (inicijalni/predloženi) | G10: TROŠKOVNIK NAKON IZMJENA I DOPUNA OD:
B12: SPECIFIKACIJA RADOVA/OPREME IZ TROŠKOVNIKA/PONUDE (prihvatljivi troškovi za prihvatljive aktivnosti) | C12: KOLIČINA (kod pojedinačnih stavaka troškovnika) | D12: JED. CIJENA | E12: UKUPAN IZNOS S PDV-OM | G12: KOLIČINA (kod pojedinačnih stavaka troškovnika) | H12: JED. CIJENA | I12: UKUPAN IZNOS S PDV-OM | J12: RAZLIKA
A13: 1 | B13: ='OBRAZAC 1'!B13 -> 0 | C13: ='OBRAZAC 1'!C13 -> 0 | D13: ='OBRAZAC 1'!D13 -> 0 | E13: ='OBRAZAC 1'!E13 -> 0 | J13: =I13-E13 -> 0
A14: 2 | B14: ='OBRAZAC 1'!B14 -> 0 | C14: ='OBRAZAC 1'!C14 -> 0 | D14: ='OBRAZAC 1'!D14 -> 0 | E14: ='OBRAZAC 1'!E14 -> 0 | J14: =I14-E14 -> 0
A15: 3 | B15: ='OBRAZAC 1'!B15 -> 0 | C15: ='OBRAZAC 1'!C15 -> 0 | D15: ='OBRAZAC 1'!D15 -> 0 | E15: ='OBRAZAC 1'!E15 -> 0 | J15: =I15-E15 -> 0
A16: 4 | B16: ='OBRAZAC 1'!B16 -> 0 | C16: ='OBRAZAC 1'!C16 -> 0 | D16: ='OBRAZAC 1'!D16 -> 0 | E16: ='OBRAZAC 1'!E16 -> 0 | J16: =I16-E16 -> 0
A17: 5 | B17: ='OBRAZAC 1'!B17 -> 0 | C17: ='OBRAZAC 1'!C17 -> 0 | D17: ='OBRAZAC 1'!D17 -> 0 | E17: ='OBRAZAC 1'!E17 -> 0 | J17: =I17-E17 -> 0
A18: 6 | B18: ='OBRAZAC 1'!B18 -> 0 | C18: ='OBRAZAC 1'!C18 -> 0 | D18: ='OBRAZAC 1'!D18 -> 0 | E18: ='OBRAZAC 1'!E18 -> 0 | J18: =I18-E18 -> 0
A19: 7 | B19: ='OBRAZAC 1'!B19 -> 0 | C19: ='OBRAZAC 1'!C19 -> 0 | D19: ='OBRAZAC 1'!D19 -> 0 | E19: ='OBRAZAC 1'!E19 -> 0 | J19: =I19-E19 -> 0
A20: 8 | B20: ='OBRAZAC 1'!B20 -> 0 | C20: ='OBRAZAC 1'!C20 -> 0 | D20: ='OBRAZAC 1'!D20 -> 0 | E20: ='OBRAZAC 1'!E20 -> 0 | J20: =I20-E20 -> 0
A21: 9 | B21: ='OBRAZAC 1'!B21 -> 0 | C21: ='OBRAZAC 1'!C21 -> 0 | D21: ='OBRAZAC 1'!D21 -> 0 | E21: ='OBRAZAC 1'!E21 -> 0 | J21: =I21-E21 -> 0
A22: 10 | B22: ='OBRAZAC 1'!B22 -> 0 | C22: ='OBRAZAC 1'!C22 -> 0 | D22: ='OBRAZAC 1'!D22 -> 0 | E22: ='OBRAZAC 1'!E22 -> 0 | J22: =I22-E22 -> 0
A23: 11 | B23: ='OBRAZAC 1'!B23 -> 0 | C23: ='OBRAZAC 1'!C23 -> 0 | D23: ='OBRAZAC 1'!D23 -> 0 | E23: ='OBRAZAC 1'!E23 -> 0 | J23: =I23-E23 -> 0
A24: 12 | B24: ='OBRAZAC 1'!B24 -> 0 | C24: ='OBRAZAC 1'!C24 -> 0 | D24: ='OBRAZAC 1'!D24 -> 0 | E24: ='OBRAZAC 1'!E24 -> 0 | J24: =I24-E24 -> 0
... A312: 300 | B312: ='OBRAZAC 1'!B312 -> 0 | C312: ='OBRAZAC 1'!C312 -> 0 | D312: ='OBRAZAC 1'!D312 -> 0 | E312: ='OBRAZAC 1'!E312 -> 0 | J312: =I312-E312 -> 0
B313: SVEUKUPNO S PDV-om | E313: =SUM(E13:E312) -> 0 | I313: =SUM(I13:I312) -> 0 | J313: =SUM(J13:J312) -> 0
B316: Datum podnošenja obrasca
B321: Ime, prezime i funkcija odgovorne osobe
B323: Pečat i potpis

Sheet OBRAZAC 1b
A1: OBRAZAC 1 - OBRAZAC TROŠKOVNIKA NAKON IZMJENA I DOPUNA OD: | G1: OBRAZAC 1b - OBRAZAC IZMJENA I DOPUNA TROŠKOVNIKA OD:
A3: SREDSTVA MINTS-a | D3: =IFERROR(E3/SUM(E3:E4),"") | E3: ='OBRAZAC 1a'!H3 -> 0 | G3: =IFERROR(H3/SUM(H3:H4),"") -> 1 | H3: =I313-H4 -> 64646
A4: VLASTITA SREDSTVA (UKUPNO) | D4: =IFERROR(E4/SUM(E3:E4),"") | E4: ='OBRAZAC 1a'!H4 -> 0 | G4: =IFERROR(H4/SUM(H3:H4),"") -> 0 | H4: =SUM(H6:H8) -> 0
A6: SREDSTVA PRIJAVITELJA (JLPRS) | E6: ='OBRAZAC 1a'!H6 -> 0
A7: UDIO JEDNOG ILI VIŠE PARTNERA (ako je primjenjivo)* | E7: ='OBRAZAC 1a'!H7 -> 0
A8: UDIO DRUGOG IZVORA SUFINANCIRANJA (ako je primjenjivo)** | E8: ='OBRAZAC 1a'!H8 -> 0
A10: SPECIFIKACIJA RADOVA/OPREME PRIHVATLJIVIH TROŠKOVA (nakon provedene prvih izmjena i dopuna) | G10: OBRAZAC IZMJENA I DOPUNA TROŠKOVNIKA OD:
B12: SPECIFIKACIJA RADOVA/OPREME IZ TROŠKOVNIKA/PONUDE (prihvatljivi troškovi za prihvatljive aktivnosti) | C12: KOLIČINA (kod pojedinačnih stavaka troškovnika) | D12: JED. CIJENA | E12: UKUPAN IZNOS S PDV-OM | G12: KOLIČINA (kod pojedinačnih stavaka troškovnika) | H12: JED. CIJENA | I12: UKUPAN IZNOS S PDV-OM | J12: RAZLIKA
A13: 1 | B13: ='OBRAZAC 1'!B13 -> 0 | C13: ='OBRAZAC 1a'!G13 -> 0 | D13: ='OBRAZAC 1a'!H13 -> 0 | E13: ='OBRAZAC 1a'!I13 -> 0 | J13: =I13-E13 -> 0
A14: 2 | B14: ='OBRAZAC 1'!B14 -> 0 | C14: ='OBRAZAC 1a'!G14 -> 0 | D14: ='OBRAZAC 1a'!H14 -> 0 | E14: ='OBRAZAC 1a'!I14 -> 0 | J14: =I14-E14 -> 0
A15: 3 | B15: ='OBRAZAC 1'!B15 -> 0 | C15: ='OBRAZAC 1a'!G15 -> 0 | D15: ='OBRAZAC 1a'!H15 -> 0 | E15: ='OBRAZAC 1a'!I15 -> 0 | J15: =I15-E15 -> 0
A16: 4 | B16: ='OBRAZAC 1'!B16 -> 0 | C16: ='OBRAZAC 1a'!G16 -> 0 | D16: ='OBRAZAC 1a'!H16 -> 0 | E16: ='OBRAZAC 1a'!I16 -> 0 | J16: =I16-E16 -> 0
A17: 5 | B17: ='OBRAZAC 1'!B17 -> 0 | C17: ='OBRAZAC 1a'!G17 -> 0 | D17: ='OBRAZAC 1a'!H17 -> 0 | E17: ='OBRAZAC 1a'!I17 -> 0 | J17: =I17-E17 -> 0
A18: 6 | B18: ='OBRAZAC 1'!B18 -> 0 | C18: ='OBRAZAC 1a'!G18 -> 0 | D18: ='OBRAZAC 1a'!H18 -> 0 | E18: ='OBRAZAC 1a'!I18 -> 0 | J18: =I18-E18 -> 0
A19: 7 | B19: ='OBRAZAC 1'!B19 -> 0 | C19: ='OBRAZAC 1a'!G19 -> 0 | D19: ='OBRAZAC 1a'!H19 -> 0 | E19: ='OBRAZAC 1a'!I19 -> 0 | J19: =I19-E19 -> 0
A20: 8 | B20: ='OBRAZAC 1'!B20 -> 0 | C20: ='OBRAZAC 1a'!G20 -> 0 | D20: ='OBRAZAC 1a'!H20 -> 0 | E20: ='OBRAZAC 1a'!I20 -> 0 | J20: =I20-E20 -> 0
A21: 9 | B21: ='OBRAZAC 1'!B21 -> 0 | C21: ='OBRAZAC 1a'!G21 -> 0 | D21: ='OBRAZAC 1a'!H21 -> 0 | E21: ='OBRAZAC 1a'!I21 -> 0 | J21: =I21-E21 -> 0
A22: 10 | B22: ='OBRAZAC 1'!B22 -> 0 | C22: ='OBRAZAC 1a'!G22 -> 0 | D22: ='OBRAZAC 1a'!H22 -> 0 | E22: ='OBRAZAC 1a'!I22 -> 0 | J22: =I22-E22 -> 0
A23: 11 | B23: ='OBRAZAC 1'!B23 -> 0 | C23: ='OBRAZAC 1a'!G23 -> 0 | D23: ='OBRAZAC 1a'!H23 -> 0 | E23: ='OBRAZAC 1a'!I23 -> 0 | J23: =I23-E23 -> 0
A24: 12 | B24: ='OBRAZAC 1'!B24 -> 0 | C24: ='OBRAZAC 1a'!G24 -> 0 | D24: ='OBRAZAC 1a'!H24 -> 0 | E24: ='OBRAZAC 1a'!I24 -> 0 | J24: =I24-E24 -> 0
... A311: 299 | B311: ='OBRAZAC 1'!B311 -> 0 | C311: ='OBRAZAC 1a'!G311 -> 0 | D311: ='OBRAZAC 1a'!H311 -> 0 | E311: ='OBRAZAC 1a'!I311 -> 0 | J311: =I311-E311 -> 0
A312: 300 | B312: ='OBRAZAC 1'!B312 -> 0 | C312: ='OBRAZAC 1a'!G312 -> 0 | D312: ='OBRAZAC 1a'!H312 -> 0 | E312: ='OBRAZAC 1a'!I312 -> 0 | I312: 64646 | J312: =I312-E312 -> 64646
B313: SVEUKUPNO S PDV-om | E313: =SUM(E13:E312) -> 0 | I313: =SUM(I13:I312) -> 64646 | J313: =SUM(J13:J312) -> 64646
B316: Datum podnošenja obrasca
B321: Ime, prezime i funkcija odgovorne osobe
B323: Pečat i potpis

Sheet OBRAZAC 1c
A1: OBRAZAC 1 - OBRAZAC IZMJENA I DOPUNA TROŠKOVNIKA OD: | G1: OBRAZAC 1c - OBRAZAC IZMJENA I DOPUNA TROŠKOVNIKA OD:
A3: SREDSTVA MINTS-a | D3: =IFERROR(E3/SUM(E3:E4),"") -> 1 | E3: ='OBRAZAC 1b'!H3 -> 64646 | G3: =IFERROR(H3/SUM(H3:H4),"") | H3: =I313-H4 -> 0
A4: VLASTITA SREDSTVA (UKUPNO) | D4: =IFERROR(E4/SUM(E3:E4),"") -> 0 | E4: ='OBRAZAC 1b'!H4 -> 0 | G4: =IFERROR(H4/SUM(H3:H4),"") | H4: =SUM(H6:H8) -> 0
A6: SREDSTVA PRIJAVITELJA (JLPRS) | E6: ='OBRAZAC 1b'!H6 -> 0
A7: UDIO JEDNOG ILI VIŠE PARTNERA (ako je primjenjivo)* | E7: ='OBRAZAC 1b'!H7 -> 0
A8: UDIO DRUGOG IZVORA SUFINANCIRANJA (ako je primjenjivo)** | E8: ='OBRAZAC 1b'!H8 -> 0
A10: SPECIFIKACIJA RADOVA/OPREME PRIHVATLJIVIH TROŠKOVA (nakon provedene drugih izmjena i dopuna) | G10: OBRAZAC IZMJENA I DOPUNA TROŠKOVNIKA OD:
B12: SPECIFIKACIJA RADOVA/OPREME IZ TROŠKOVNIKA/PONUDE (prihvatljivi troškovi za prihvatljive aktivnosti) | C12: KOLIČINA (kod pojedinačnih stavaka troškovnika) | D12: JED. CIJENA | E12: UKUPAN IZNOS S PDV-OM | G12: KOLIČINA (kod pojedinačnih stavaka troškovnika) | H12: JED. CIJENA | I12: UKUPAN IZNOS S PDV-OM | J12: RAZLIKA
A13: 1 | B13: ='OBRAZAC 1'!B13 -> 0 | C13: ='OBRAZAC 1b'!G13 -> 0 | D13: ='OBRAZAC 1b'!H13 -> 0 | E13: ='OBRAZAC 1b'!I13 -> 0 | J13: =I13-E13 -> 0
A14: 2 | B14: ='OBRAZAC 1'!B14 -> 0 | C14: ='OBRAZAC 1b'!G14 -> 0 | D14: ='OBRAZAC 1b'!H14 -> 0 | E14: ='OBRAZAC 1b'!I14 -> 0 | J14: =I14-E14 -> 0
A15: 3 | B15: ='OBRAZAC 1'!B15 -> 0 | C15: ='OBRAZAC 1b'!G15 -> 0 | D15: ='OBRAZAC 1b'!H15 -> 0 | E15: ='OBRAZAC 1b'!I15 -> 0 | J15: =I15-E15 -> 0
A16: 4 | B16: ='OBRAZAC 1'!B16 -> 0 | C16: ='OBRAZAC 1b'!G16 -> 0 | D16: ='OBRAZAC 1b'!H16 -> 0 | E16: ='OBRAZAC 1b'!I16 -> 0 | J16: =I16-E16 -> 0
A17: 5 | B17: ='OBRAZAC 1'!B17 -> 0 | C17: ='OBRAZAC 1b'!G17 -> 0 | D17: ='OBRAZAC 1b'!H17 -> 0 | E17: ='OBRAZAC 1b'!I17 -> 0 | J17: =I17-E17 -> 0
A18: 6 | B18: ='OBRAZAC 1'!B18 -> 0 | C18: ='OBRAZAC 1b'!G18 -> 0 | D18: ='OBRAZAC 1b'!H18 -> 0 | E18: ='OBRAZAC 1b'!I18 -> 0 | J18: =I18-E18 -> 0
A19: 7 | B19: ='OBRAZAC 1'!B19 -> 0 | C19: ='OBRAZAC 1b'!G19 -> 0 | D19: ='OBRAZAC 1b'!H19 -> 0 | E19: ='OBRAZAC 1b'!I19 -> 0 | J19: =I19-E19 -> 0
A20: 8 | B20: ='OBRAZAC 1'!B20 -> 0 | C20: ='OBRAZAC 1b'!G20 -> 0 | D20: ='OBRAZAC 1b'!H20 -> 0 | E20: ='OBRAZAC 1b'!I20 -> 0 | J20: =I20-E20 -> 0
A21: 9 | B21: ='OBRAZAC 1'!B21 -> 0 | C21: ='OBRAZAC 1b'!G21 -> 0 | D21: ='OBRAZAC 1b'!H21 -> 0 | E21: ='OBRAZAC 1b'!I21 -> 0 | J21: =I21-E21 -> 0
A22: 10 | B22: ='OBRAZAC 1'!B22 -> 0 | C22: ='OBRAZAC 1b'!G22 -> 0 | D22: ='OBRAZAC 1b'!H22 -> 0 | E22: ='OBRAZAC 1b'!I22 -> 0 | J22: =I22-E22 -> 0
A23: 11 | B23: ='OBRAZAC 1'!B23 -> 0 | C23: ='OBRAZAC 1b'!G23 -> 0 | D23: ='OBRAZAC 1b'!H23 -> 0 | E23: ='OBRAZAC 1b'!I23 -> 0 | J23: =I23-E23 -> 0
A24: 12 | B24: ='OBRAZAC 1'!B24 -> 0 | C24: ='OBRAZAC 1b'!G24 -> 0 | D24: ='OBRAZAC 1b'!H24 -> 0 | E24: ='OBRAZAC 1b'!I24 -> 0 | J24: =I24-E24 -> 0
... A312: 300 | B312: ='OBRAZAC 1'!B312 -> 0 | C312: ='OBRAZAC 1b'!G312 -> 0 | D312: ='OBRAZAC 1b'!H312 -> 0 | E312: ='OBRAZAC 1b'!I312 -> 64646 | J312: =I312-E312 -> -64646
B313: SVEUKUPNO S PDV-om | E313: =SUM(E13:E312) -> 64646 | I313: =SUM(I13:I312) -> 0 | J313: =SUM(J13:J312) -> -64646
B316: Datum podnošenja obrasca
B321: Ime, prezime i funkcija odgovorne osobe
B323: Pečat i potpis
